BEGIN:VCALENDAR
VERSION:2.0
PRODID:-//Debates Chiapas 2024 - ECPv6.5.0//NONSGML v1.0//EN
CALSCALE:GREGORIAN
METHOD:PUBLISH
X-WR-CALNAME:Debates Chiapas 2024
X-ORIGINAL-URL:debates2024.iepc-chiapas.org.mx
X-WR-CALDESC:Eventos para Debates Chiapas 2024
REFRESH-INTERVAL;VALUE=DURATION:PT1H
X-Robots-Tag:noindex
X-PUBLISHED-TTL:PT1H
BEGIN:VTIMEZONE
TZID:UTC
BEGIN:STANDARD
TZOFFSETFROM:+0000
TZOFFSETTO:+0000
TZNAME:UTC
DTSTART:20240101T000000
END:STANDARD
END:VTIMEZONE
BEGIN:VEVENT
DTSTART;TZID=UTC:20240524T100000
DTEND;TZID=UTC:20240524T120000
DTSTAMP:20260421T171050
CREATED:20240518T221948Z
LAST-MODIFIED:20240520T162645Z
UID:997-1716544800-1716552000@
SUMMARY:Debate Municipal 73 Reforma
DESCRIPTION:Entre las candidaturas a la presidencia municipal de Reforma\, contando con la participación de: \n· María Cristina García Moreno\nCandidata de la coalición “Fuerza y Corazón por Chiapas” \n· Pedro Ramírez Ramos\nCandidato del partido “Movimiento Ciudadano” \n¡No te lo pierdas! A través de todas nuestras plataformas: Facebook\, Youtube y X.
URL:debates2024.iepc-chiapas.org.mx/event/debate-municipal-73-reforma/
LOCATION:Centro de Convenciones Manuel Velasco Suárez (UNACH)\, Blvd. Belisario Domínguez 2105\, Sin Nombre\, Flamboyán\, Tuxtla Gutiérrez\, Chiapas\, 29059\, México
END:VEVENT
BEGIN:VEVENT
DTSTART;TZID=UTC:20240524T170000
DTEND;TZID=UTC:20240524T190000
DTSTAMP:20260421T171050
CREATED:20240515T003515Z
LAST-MODIFIED:20240524T220046Z
UID:913-1716570000-1716577200@
SUMMARY:Debate Municipal 19 Comitán de Domínguez
DESCRIPTION:Entre las candidaturas a la presidencia municipal de Comitán de Domínguez\, contando con la participación de: \n· Jorge Constantino Kanter \nCandidato del “Partido Verde Ecologista de México” \n· Julio Gilberto Olvera Hernández \nCandidato del “Partido Popular Chiapaneco” \n· María Elena Cruz Cancino\nCandidata por la coalición “Fuerza y Corazón por Chiapas” \n· Raúl Figueroa Gómez\nCandidato del partido “Fuerza por México” \n· Julio César Rubio Gómez\nCandidato del “Partido Podemos Mover a Chiapas” \n· Emmanuel Cordero \nCandidato del partido “Chiapas Unido” \n· Víctor Méndez Ruiz \nCandidato del partido “Movimiento Ciudadano” \n¡No te lo pierdas! A través de todas nuestras plataformas: Facebook\, Youtube y X.
URL:debates2024.iepc-chiapas.org.mx/event/debate-municipal-102-tuxtla-gutierrez/
LOCATION:Centro de Convenciones Manuel Velasco Suárez (UNACH)\, Blvd. Belisario Domínguez 2105\, Sin Nombre\, Flamboyán\, Tuxtla Gutiérrez\, Chiapas\, 29059\, México
END:VEVENT
END:VCALENDAR