BEGIN:VCALENDAR
VERSION:2.0
PRODID:-//Debates Chiapas 2024 - ECPv6.5.0//NONSGML v1.0//EN
CALSCALE:GREGORIAN
METHOD:PUBLISH
X-ORIGINAL-URL:debates2024.iepc-chiapas.org.mx
X-WR-CALDESC:Eventos para Debates Chiapas 2024
REFRESH-INTERVAL;VALUE=DURATION:PT1H
X-Robots-Tag:noindex
X-PUBLISHED-TTL:PT1H
BEGIN:VTIMEZONE
TZID:UTC
BEGIN:STANDARD
TZOFFSETFROM:+0000
TZOFFSETTO:+0000
TZNAME:UTC
DTSTART:20240101T000000
END:STANDARD
END:VTIMEZONE
BEGIN:VEVENT
DTSTART;TZID=UTC:20240522T180000
DTEND;TZID=UTC:20240522T200000
DTSTAMP:20260421T171043
CREATED:20240519T211453Z
LAST-MODIFIED:20240520T162842Z
UID:1007-1716400800-1716408000@
SUMMARY:Debate Municipal 102 Tuxtla Gutiérrez
DESCRIPTION:Entre las candidaturas a la presidencia municipal de Tuxtla Gutiérrez\, contando con la participación de: \n· Ángel Torres Culebro\nCandidato de la coalición “Seguiremos Haciendo Historia en Chiapas” \n· Francisco Antonio Rojas Toledo\nCandidato de la coalición “Fuerza y Corazón por Chiapas” \n· Ramón Salvatore Constanzo Ceballos\nCandidato del partido “Movimiento Ciudadano” \n¡No te lo pierdas! A través de todas nuestras plataformas: Facebook\, Youtube y X.
URL:debates2024.iepc-chiapas.org.mx/event/debate-municipal-102-tuxtla-gutierrez-2/
LOCATION:Centro de Convenciones Manuel Velasco Suárez (UNACH)\, Blvd. Belisario Domínguez 2105\, Sin Nombre\, Flamboyán\, Tuxtla Gutiérrez\, Chiapas\, 29059\, México
END:VEVENT
END:VCALENDAR